BEGIN:VCALENDAR
VERSION:2.0
PRODID:-//RIGHTHERE//CALENDARIZE IT V3.2//EN
BEGIN:VEVENT
UID:1787-events@musees-meuse.fr
DTSTART:20250411T140000Z
DTEND:20250411T160000Z
DTSTAMP:20250328T161048Z
SUMMARY:Atelier « Début des travaux au Clos »
DESCRIPTION:Vendredi 11 avril de 14h à 16h.\n\nAtelier architecture animé
 par Marine Valentin du CAUE.\n\n\nAnimation en lien avec l’exposition ^'
 Reconstruire le Clos\, Sampigny au lendemain de la Grande Guerre^'.\n\nA p
 artir de 7 ans\, gratuit.\n\n\nRéservation obligatoire au 03 29 90 70 50 
 ou cdmm@meuse.fr
URL:https://musees-meuse.fr/events/atelier-debut-des-travaux-au-clos/
ORGANIZER;CN=Musée départemental Raymond Poincaré:MAILTO:cdmm[at]meuse.f
 r
LOCATION:Clos Raymond Poincaré 55300 Sampigny
END:VEVENT
END:VCALENDAR