BEGIN:VCALENDAR
VERSION:2.0
PRODID:-//RIGHTHERE//CALENDARIZE IT V3.2//EN
BEGIN:VEVENT
UID:1295-events@musees-meuse.fr
DTSTART:20240608T140000Z
DTEND:20240608T170000Z
DTSTAMP:20240523T074347Z
SUMMARY:Atelier gravure
DESCRIPTION:La Ville de Commercy vous propose une animation gratuite Ă  lâ€
 ™occasion de lâ€™exposition temporaire dâ€™Adrien Recouvreur.\n\n\nGravure
 avec une presse taille douce le Samedi 08 JUIN de 14h00 Ă  17h00 et le Sam
 edi 06 JUILLET de 14h00 Ă  17h00.\n\n\nPrĂ©sentation des techniques de gra
 vure taille douce et taille d'Ă©pargne.\nPrĂ©sentation dâ€™Ĺ“uvres d'Adrie
 n Recouvreur.\nRĂ©alisation d'une gravure par chaque stagiaire (Ă  partir 
 d'une peinture ou d'une gravure existante).\nA partir de 8 ans.\n\n\nRĂ©se
 rvation Ateliers : dat@commercy.fr / 03 29 91 75 54
RDATE;VALUE=PERIOD:20240706T140000/20240706T170000
URL:https://musees-meuse.fr/events/atelier-gravure/
ORGANIZER;CN=MusĂ©e de la CĂ©ramique et de lâ€™Ivoire:MAILTO:mairie[at]comm
 ercy.fr
LOCATION:7 avenue Carcano 55200 commercy
END:VEVENT
END:VCALENDAR